BEGIN:VCALENDAR
VERSION:2.0
PRODID:-//Frisbeesport-Landesverband Berlin e. V. - ECPv6.15.17//NONSGML v1.0//EN
CALSCALE:GREGORIAN
METHOD:PUBLISH
X-WR-CALNAME:Frisbeesport-Landesverband Berlin e. V.
X-ORIGINAL-URL:https://frisbee.berlin
X-WR-CALDESC:Veranstaltungen für Frisbeesport-Landesverband Berlin e. V.
REFRESH-INTERVAL;VALUE=DURATION:PT1H
X-Robots-Tag:noindex
X-PUBLISHED-TTL:PT1H
BEGIN:VTIMEZONE
TZID:Europe/Berlin
BEGIN:DAYLIGHT
TZOFFSETFROM:+0100
TZOFFSETTO:+0200
TZNAME:CEST
DTSTART:20220327T010000
END:DAYLIGHT
BEGIN:STANDARD
TZOFFSETFROM:+0200
TZOFFSETTO:+0100
TZNAME:CET
DTSTART:20221030T010000
END:STANDARD
BEGIN:DAYLIGHT
TZOFFSETFROM:+0100
TZOFFSETTO:+0200
TZNAME:CEST
DTSTART:20230326T010000
END:DAYLIGHT
BEGIN:STANDARD
TZOFFSETFROM:+0200
TZOFFSETTO:+0100
TZNAME:CET
DTSTART:20231029T010000
END:STANDARD
BEGIN:DAYLIGHT
TZOFFSETFROM:+0100
TZOFFSETTO:+0200
TZNAME:CEST
DTSTART:20240331T010000
END:DAYLIGHT
BEGIN:STANDARD
TZOFFSETFROM:+0200
TZOFFSETTO:+0100
TZNAME:CET
DTSTART:20241027T010000
END:STANDARD
END:VTIMEZONE
BEGIN:VEVENT
DTSTART;VALUE=DATE:20230520
DTEND;VALUE=DATE:20230522
DTSTAMP:20260419T220905
CREATED:20230109T120953Z
LAST-MODIFIED:20230415T103640Z
UID:5510-1684540800-1684713599@frisbee.berlin
SUMMARY:DFV-Pokal Frauen\, Open
DESCRIPTION:
URL:https://frisbee.berlin/termin/dfv-pokal-frauen-open/
LOCATION:Limerick\, Irland
CATEGORIES:DFV-Turniere
END:VEVENT
END:VCALENDAR